BEGIN:VCALENDAR
VERSION:2.0
PRODID:-//www.uwbarthco.org//NONSGML kigkonsult.se iCalcreator 2.30.10//
CALSCALE:GREGORIAN
METHOD:PUBLISH
UID:80b865c6-a29f-415c-8792-05d1e930bde3
X-WR-CALDESC:
X-WR-RELCALID:5183dfe98d6f4d8f10fda687eb0fa098
X-WR-TIMEZONE:America/New_York
BEGIN:VTIMEZONE
TZID:America/New_York
BEGIN:STANDARD
TZNAME:EST
DTSTART:20241103T020000
TZOFFSETFROM:-0400
TZOFFSETTO:-0500
RDATE:20251102T020000
RDATE:20261101T020000
END:STANDARD
BEGIN:DAYLIGHT
TZNAME:EDT
DTSTART:20250309T020000
TZOFFSETFROM:-0500
TZOFFSETTO:-0400
RDATE:20260308T020000
END:DAYLIGHT
END:VTIMEZONE
BEGIN:VEVENT
UID:7d78c6de-038d-4774-9275-fd045aa65ce7
DTSTAMP:20260420T025948Z
DESCRIPTION:
DTSTART;TZID=America/New_York:20250911T110000
DTEND;TZID=America/New_York:20250911T130000
LOCATION:Amazing Joe's\, 2607 Central Ave\, Columbus\, IN 47203 US
SUMMARY:Impact Lunch
END:VEVENT
END:VCALENDAR
