BEGIN:VCALENDAR
VERSION:2.0
PRODID:-//www.uwbarthco.org//NONSGML kigkonsult.se iCalcreator 2.30.10//
CALSCALE:GREGORIAN
METHOD:PUBLISH
UID:f2dd09a0-682b-4609-b66a-e5886825d2b9
X-WR-CALDESC:
X-WR-RELCALID:fb8bd50e2af716418b22cb8ab10f6c2e
X-WR-TIMEZONE:America/New_York
BEGIN:VTIMEZONE
TZID:America/New_York
BEGIN:STANDARD
TZNAME:EST
DTSTART:20251102T020000
TZOFFSETFROM:-0400
TZOFFSETTO:-0500
RDATE:20261101T020000
END:STANDARD
BEGIN:DAYLIGHT
TZNAME:EDT
DTSTART:20250309T020000
TZOFFSETFROM:-0500
TZOFFSETTO:-0400
RDATE:20260308T020000
RDATE:20270314T020000
END:DAYLIGHT
END:VTIMEZONE
BEGIN:VEVENT
UID:4b685224-b414-4507-b28a-b0a2462d143e
DTSTAMP:20260419T234629Z
DESCRIPTION:
DTSTART;TZID=America/New_York:20251121T153000
DTEND;TZID=America/New_York:20251121T163000
LOCATION:United Way Firehouse\, 1304 Hutchins Ave.
SUMMARY:Emerging Leader Meeting
END:VEVENT
END:VCALENDAR
