BEGIN:VCALENDAR
VERSION:2.0
PRODID:-//www.uwbarthco.org//NONSGML kigkonsult.se iCalcreator 2.30.10//
CALSCALE:GREGORIAN
METHOD:PUBLISH
UID:931ccf6d-8417-4037-892d-c56eeceed27a
X-WR-CALDESC:
X-WR-RELCALID:18c8c280e31cc1c5205ac65eae12c311
X-WR-TIMEZONE:America/New_York
BEGIN:VTIMEZONE
TZID:America/New_York
BEGIN:STANDARD
TZNAME:EST
DTSTART:20251102T020000
TZOFFSETFROM:-0400
TZOFFSETTO:-0500
RDATE:20261101T020000
END:STANDARD
BEGIN:DAYLIGHT
TZNAME:EDT
DTSTART:20250309T020000
TZOFFSETFROM:-0500
TZOFFSETTO:-0400
RDATE:20260308T020000
RDATE:20270314T020000
END:DAYLIGHT
END:VTIMEZONE
BEGIN:VEVENT
UID:fc44fb15-27f8-49a3-85a1-a16ca8091a34
DTSTAMP:20260419T220755Z
DESCRIPTION:
DTSTART;TZID=America/New_York:20251204T163000
DTEND;TZID=America/New_York:20251204T183000
LOCATION:1304 Hutchins Ave\, Columbus\, IN 47203 US
SUMMARY:Holiday Open House
END:VEVENT
END:VCALENDAR
