BEGIN:VCALENDAR
VERSION:2.0
PRODID:-//www.uwbarthco.org//NONSGML kigkonsult.se iCalcreator 2.30.10//
CALSCALE:GREGORIAN
METHOD:PUBLISH
UID:981ea402-3aba-4408-b976-c5b3e835f762
X-WR-CALDESC:“Everybody can be great\, because anybody can serve.” — Dr. Ma
 rtin Luther King Jr.\n\nVolunteer projects for the MLK Jr. Day of Service 
 (Jan. 19) are open today. United Way of Bartholomew County invites communi
 ty members ages 5 and up to honor Dr. King’s legacy through hands-on servi
 ce that strengthens local nonprofits and our community.\n\n
X-WR-RELCALID:0ba84dbf75f29fadfa8302999b0dee1b
X-WR-TIMEZONE:America/New_York
BEGIN:VTIMEZONE
TZID:America/New_York
BEGIN:STANDARD
TZNAME:EST
DTSTART:20251102T020000
TZOFFSETFROM:-0400
TZOFFSETTO:-0500
RDATE:20261101T020000
END:STANDARD
BEGIN:DAYLIGHT
TZNAME:EDT
DTSTART:20250309T020000
TZOFFSETFROM:-0500
TZOFFSETTO:-0400
RDATE:20260308T020000
RDATE:20270314T020000
END:DAYLIGHT
END:VTIMEZONE
BEGIN:VEVENT
UID:6d0f4389-bc40-4f00-bd97-f056c36cc312
DTSTAMP:20260419T202813Z
DESCRIPTION:“Everybody can be great\, because anybody can serve.” — Dr. Mar
 tin Luther King Jr.\n\nVolunteer projects for the MLK Jr. Day of Service (
 Jan. 19) are open today. United Way of Bartholomew County invites communit
 y members ages 5 and up to honor Dr. King’s legacy through hands-on servic
 e that strengthens local nonprofits and our community.\n\n
DTSTART;TZID=America/New_York:20260119T060000
DTEND;TZID=America/New_York:20260119T060001
LOCATION:Bartholomew County
SUMMARY:MLK Jr.\, Day of Service
END:VEVENT
END:VCALENDAR
