BEGIN:VCALENDAR
VERSION:2.0
PRODID:-//www.uwbarthco.org//NONSGML kigkonsult.se iCalcreator 2.30.10//
CALSCALE:GREGORIAN
METHOD:PUBLISH
UID:1f1efb82-73ad-4c34-a157-5be5b27ffcdf
X-WR-CALDESC:
X-WR-RELCALID:273a4944c515dcf046a9b6850ad09937
X-WR-TIMEZONE:America/New_York
BEGIN:VTIMEZONE
TZID:America/New_York
BEGIN:STANDARD
TZNAME:EST
DTSTART:20251102T020000
TZOFFSETFROM:-0400
TZOFFSETTO:-0500
RDATE:20261101T020000
END:STANDARD
BEGIN:DAYLIGHT
TZNAME:EDT
DTSTART:20250309T020000
TZOFFSETFROM:-0500
TZOFFSETTO:-0400
RDATE:20260308T020000
RDATE:20270314T020000
END:DAYLIGHT
END:VTIMEZONE
BEGIN:VEVENT
UID:908deeb9-5172-4155-b7b5-6c1b48f069a7
DTSTAMP:20260419T183811Z
DESCRIPTION:
DTSTART;TZID=America/New_York:20260204T160000
DTEND;TZID=America/New_York:20260204T180000
LOCATION:1304 Hutchins Ave\, Columbus\, IN 47203 US
SUMMARY:Emerging Leaders: Basic Needs with Dignity Fund Kickoff
END:VEVENT
END:VCALENDAR
